BEGIN:VCALENDAR
VERSION:2.0
PRODID:-//Western Washington Firebirds - ECPv6.15.20//NONSGML v1.0//EN
CALSCALE:GREGORIAN
METHOD:PUBLISH
X-WR-CALNAME:Western Washington Firebirds
X-ORIGINAL-URL:https://wwfirebirds.com
X-WR-CALDESC:Events for Western Washington Firebirds
REFRESH-INTERVAL;VALUE=DURATION:PT1H
X-Robots-Tag:noindex
X-PUBLISHED-TTL:PT1H
BEGIN:VTIMEZONE
TZID:America/Los_Angeles
BEGIN:DAYLIGHT
TZOFFSETFROM:-0800
TZOFFSETTO:-0700
TZNAME:PDT
DTSTART:20250309T100000
END:DAYLIGHT
BEGIN:STANDARD
TZOFFSETFROM:-0700
TZOFFSETTO:-0800
TZNAME:PST
DTSTART:20251102T090000
END:STANDARD
BEGIN:DAYLIGHT
TZOFFSETFROM:-0800
TZOFFSETTO:-0700
TZNAME:PDT
DTSTART:20260308T100000
END:DAYLIGHT
BEGIN:STANDARD
TZOFFSETFROM:-0700
TZOFFSETTO:-0800
TZNAME:PST
DTSTART:20261101T090000
END:STANDARD
BEGIN:DAYLIGHT
TZOFFSETFROM:-0800
TZOFFSETTO:-0700
TZNAME:PDT
DTSTART:20270314T100000
END:DAYLIGHT
BEGIN:STANDARD
TZOFFSETFROM:-0700
TZOFFSETTO:-0800
TZNAME:PST
DTSTART:20271107T090000
END:STANDARD
END:VTIMEZONE
BEGIN:VEVENT
DTSTART;TZID=America/Los_Angeles:20260718T080000
DTEND;TZID=America/Los_Angeles:20260718T150000
DTSTAMP:20260423T234352
CREATED:20260207T010629Z
LAST-MODIFIED:20260207T010629Z
UID:84860-1784361600-1784386800@wwfirebirds.com
SUMMARY:Gary Johnson Memorial Motor Mayhem
DESCRIPTION:
URL:https://wwfirebirds.com/event/gary-johnson-memorial-motor-mayhem/
LOCATION:Mt Rainier Eagles\, 100 Weyerhouser Rd N\, Eatonville\, WA\, 98328
END:VEVENT
BEGIN:VEVENT
DTSTART;TZID=America/Los_Angeles:20260718T090000
DTEND;TZID=America/Los_Angeles:20260718T110000
DTSTAMP:20260423T234352
CREATED:20260210T043016Z
LAST-MODIFIED:20260210T043016Z
UID:84900-1784365200-1784372400@wwfirebirds.com
SUMMARY:Tacoma Cars and Coffee - LeMay American Car Museum
DESCRIPTION:February 21 \nMarch 21 \nApril 18 \nMay 16 \nJune 20 \nJuly 18 \nAug 15 \nSept 19 \nOct 17 \nNov 21 \nDec 19
URL:https://wwfirebirds.com/event/tacoma-cars-and-coffee-lemay-american-car-museum-6/
LOCATION:Wa
END:VEVENT
BEGIN:VEVENT
DTSTART;TZID=America/Los_Angeles:20260718T090000
DTEND;TZID=America/Los_Angeles:20260718T120000
DTSTAMP:20260423T234352
CREATED:20260421T013359Z
LAST-MODIFIED:20260421T013359Z
UID:85235-1784365200-1784376000@wwfirebirds.com
SUMMARY:Federal Way Cars and Coffee
DESCRIPTION:Every Saturday \n201 Browns Point BLVD \nTacoma
URL:https://wwfirebirds.com/event/federal-way-cars-and-coffee-12/
LOCATION:Wa
END:VEVENT
BEGIN:VEVENT
DTSTART;TZID=America/Los_Angeles:20260718T090000
DTEND;TZID=America/Los_Angeles:20260718T140000
DTSTAMP:20260423T234352
CREATED:20260308T005251Z
LAST-MODIFIED:20260308T005551Z
UID:85070-1784365200-1784383200@wwfirebirds.com
SUMMARY:Classic Car Show
DESCRIPTION:Open Registration
URL:https://wwfirebirds.com/event/classic-a/
LOCATION:Fairwinds Brighton Ct\, 6520 196th St SW\, Lynnwood\, Wa\, 98036
END:VEVENT
BEGIN:VEVENT
DTSTART;TZID=America/Los_Angeles:20260718T090000
DTEND;TZID=America/Los_Angeles:20260718T150000
DTSTAMP:20260423T234352
CREATED:20260309T050246Z
LAST-MODIFIED:20260309T050246Z
UID:85098-1784365200-1784386800@wwfirebirds.com
SUMMARY:14th Annual Car Show for Kids
DESCRIPTION:Fundraiser for the Pediatric Brain Tumor Foundation \nGold Gate Parking Lot of the WA State Fair Grounds \nSponsored by Pierce County NAPA Owners Group.
URL:https://wwfirebirds.com/event/14th-annual-car-show-for-kids/
LOCATION:Western Washington Fairgrounds\, 110 9th Ave SW\, Puyallup\, wa\, 98371
END:VEVENT
BEGIN:VEVENT
DTSTART;TZID=America/Los_Angeles:20260718T170000
DTEND;TZID=America/Los_Angeles:20260718T210000
DTSTAMP:20260423T234352
CREATED:20260411T020315Z
LAST-MODIFIED:20260421T011844Z
UID:85221-1784394000-1784408400@wwfirebirds.com
SUMMARY:2026 Cruise Buckley
DESCRIPTION:May 16 \nJune 20 \nJuly 18 \nAugust 15 \nSept 19
URL:https://wwfirebirds.com/event/2026-cruise-buckley-3/
LOCATION:Wa
END:VEVENT
BEGIN:VEVENT
DTSTART;TZID=America/Los_Angeles:20260724T170000
DTEND;TZID=America/Los_Angeles:20260724T210000
DTSTAMP:20260423T234352
CREATED:20260227T033223Z
LAST-MODIFIED:20260227T033223Z
UID:85007-1784912400-1784926800@wwfirebirds.com
SUMMARY:Binford Field of Dreams
DESCRIPTION:May 8.            July 24.     October 24 \nMay 15.          July 31 \nMay 29.          Aug 8 \nJune 12          Aug 14 \nJune 19          Aug 21 \nJune 26          Aug 28 \nJluly 10.          Sept 11 \nJuly 11          Sept 18 \nJuly 17          Sept 25
URL:https://wwfirebirds.com/event/binford-field-of-dreams-27/
LOCATION:Binford\, 26311 78th Ave S\, Kent\, Wa\, 98032
ORGANIZER;CN="Binford Field of Dreams":MAILTO:kaylee@binfordmetals.com
END:VEVENT
BEGIN:VEVENT
DTSTART;TZID=America/Los_Angeles:20260725T090000
DTEND;TZID=America/Los_Angeles:20260725T140000
DTSTAMP:20260423T234352
CREATED:20260305T235302Z
LAST-MODIFIED:20260305T235302Z
UID:85052-1784970000-1784988000@wwfirebirds.com
SUMMARY:Hot July Nights 21st Annual Car Show
DESCRIPTION:Classic Cars 1996 and older \nHamburgers\, Hot Dogs available \nProceeds benefit Rebuilding Together Pacific County
URL:https://wwfirebirds.com/event/hot-july-nights-21st-annual-car-show/
LOCATION:Wa
END:VEVENT
BEGIN:VEVENT
DTSTART;TZID=America/Los_Angeles:20260726T120000
DTEND;TZID=America/Los_Angeles:20260726T210000
DTSTAMP:20260423T234352
CREATED:20260204T003516Z
LAST-MODIFIED:20260204T003516Z
UID:84851-1785067200-1785099600@wwfirebirds.com
SUMMARY:North End Cruisers 3rd Annual BBQ
DESCRIPTION:982-998 W Marine View Dr \nEverett\, WA
URL:https://wwfirebirds.com/event/north-end-cruisers-3rd-annual-bbq/
LOCATION:Wa
END:VEVENT
BEGIN:VEVENT
DTSTART;TZID=America/Los_Angeles:20260731T170000
DTEND;TZID=America/Los_Angeles:20260731T210000
DTSTAMP:20260423T234352
CREATED:20260227T033241Z
LAST-MODIFIED:20260227T033241Z
UID:85009-1785517200-1785531600@wwfirebirds.com
SUMMARY:Binford Field of Dreams
DESCRIPTION:May 8.            July 24.     October 24 \nMay 15.          July 31 \nMay 29.          Aug 8 \nJune 12          Aug 14 \nJune 19          Aug 21 \nJune 26          Aug 28 \nJluly 10.          Sept 11 \nJuly 11          Sept 18 \nJuly 17          Sept 25
URL:https://wwfirebirds.com/event/binford-field-of-dreams-28/
LOCATION:Binford\, 26311 78th Ave S\, Kent\, Wa\, 98032
ORGANIZER;CN="Binford Field of Dreams":MAILTO:kaylee@binfordmetals.com
END:VEVENT
BEGIN:VEVENT
DTSTART;TZID=America/Los_Angeles:20260801T073000
DTEND;TZID=America/Los_Angeles:20260801T140000
DTSTAMP:20260423T234352
CREATED:20260403T204116Z
LAST-MODIFIED:20260403T204116Z
UID:85176-1785569400-1785592800@wwfirebirds.com
SUMMARY:7th Cruiz In to the Elks
DESCRIPTION:Elks Kelso #1482 \nProceeds benefit local charities and vocational scholarships
URL:https://wwfirebirds.com/event/7th-cruiz-in-to-the-elks/
LOCATION:Elks\, Kelso #1482\, 900 Ash St\, Kelso\, Wa
END:VEVENT
BEGIN:VEVENT
DTSTART;TZID=America/Los_Angeles:20260801T080000
DTEND;TZID=America/Los_Angeles:20260801T170000
DTSTAMP:20260423T234352
CREATED:20260202T175043Z
LAST-MODIFIED:20260202T175043Z
UID:84816-1785571200-1785603600@wwfirebirds.com
SUMMARY:Wilkerson Eagles Car Show
DESCRIPTION:
URL:https://wwfirebirds.com/event/wilkerson-eagles-car-show/
LOCATION:Wa
END:VEVENT
BEGIN:VEVENT
DTSTART;TZID=America/Los_Angeles:20260801T083000
DTEND;TZID=America/Los_Angeles:20260801T150000
DTSTAMP:20260423T234352
CREATED:20260225T022951Z
LAST-MODIFIED:20260225T022951Z
UID:84981-1785573000-1785596400@wwfirebirds.com
SUMMARY:Road  Rebels 18th Annual Car & Motorcycle show
DESCRIPTION:During the Blue Festival Mossy Rock City Hall \nMossy Rock\, WA \nRegisration starts at 8:00am \nContact info Jack – 360-520-3621 or John 360-910-1584
URL:https://wwfirebirds.com/event/road-rebels-18th-annual-car-motorcycle-show/
LOCATION:Wa
END:VEVENT
BEGIN:VEVENT
DTSTART;TZID=America/Los_Angeles:20260807T180000
DTEND;TZID=America/Los_Angeles:20260807T210000
DTSTAMP:20260423T234352
CREATED:20260202T033236Z
LAST-MODIFIED:20260202T033236Z
UID:84807-1786125600-1786136400@wwfirebirds.com
SUMMARY:Cruzin Cole (Enumclaw)
DESCRIPTION:May 1 6pm-9pm \nJune 5 6pm-9pm \nJuly 3 6pm-9pm \nAugust 7 6pm-9pm \nSept 4 6pm-9pm \nWWF meet at Key bank 5-5:30pm
URL:https://wwfirebirds.com/event/cruzin-cole-enumclaw-4/
LOCATION:Enumclaw\, Enumclaw\, WA
END:VEVENT
BEGIN:VEVENT
DTSTART;TZID=America/Los_Angeles:20260808T090000
DTEND;TZID=America/Los_Angeles:20260808T120000
DTSTAMP:20260423T234352
CREATED:20260421T013440Z
LAST-MODIFIED:20260421T013440Z
UID:85238-1786179600-1786190400@wwfirebirds.com
SUMMARY:Federal Way Cars and Coffee
DESCRIPTION:Every Saturday Almost. \n201 Browns Point BLVD \nTacoma
URL:https://wwfirebirds.com/event/federal-way-cars-and-coffee-13/
LOCATION:Wa
END:VEVENT
BEGIN:VEVENT
DTSTART;TZID=America/Los_Angeles:20260808T100000
DTEND;TZID=America/Los_Angeles:20260808T160000
DTSTAMP:20260423T234352
CREATED:20260408T041444Z
LAST-MODIFIED:20260408T041444Z
UID:85205-1786183200-1786204800@wwfirebirds.com
SUMMARY:Hot Barker Nights Car Show
DESCRIPTION:
URL:https://wwfirebirds.com/event/hot-barker-nights-car-show/
LOCATION:Washington State Fair Grounds\, 110 9th ave SW\, Puyallup\, wa\, 98371
END:VEVENT
BEGIN:VEVENT
DTSTART;TZID=America/Los_Angeles:20260808T170000
DTEND;TZID=America/Los_Angeles:20260808T210000
DTSTAMP:20260423T234352
CREATED:20260114T012504Z
LAST-MODIFIED:20260114T012504Z
UID:84702-1786208400-1786222800@wwfirebirds.com
SUMMARY:Cruise Puyallup
DESCRIPTION:April 25 \nMay 9 \nJune 6 \nJuly 11 \nAugust 8 \nOctober 10 \nNovember 28 \nDecember 12 \nNo Sept due to Fair. \nMeet up at Safeway across from Fairgounds 5-6pm
URL:https://wwfirebirds.com/event/cruise-puyallup-12/
LOCATION:City of Puyallup
END:VEVENT
BEGIN:VEVENT
DTSTART;TZID=America/Los_Angeles:20260808T170000
DTEND;TZID=America/Los_Angeles:20260808T210000
DTSTAMP:20260423T234352
CREATED:20260227T033257Z
LAST-MODIFIED:20260227T033638Z
UID:85011-1786208400-1786222800@wwfirebirds.com
SUMMARY:Binford Field of Dreams Swap Meet
DESCRIPTION:May 8.            July 24.     October 24 \nMay 15.          July 31 \nMay 29.          Aug 8 \nJune 12          Aug 14 \nJune 19          Aug 21 \nJune 26          Aug 28 \nJluly 10.          Sept 11 \nJuly 11          Sept 18 \nJuly 17          Sept 25
URL:https://wwfirebirds.com/event/binford-field-of-dreams-29/
LOCATION:Binford\, 26311 78th Ave S\, Kent\, Wa\, 98032
ORGANIZER;CN="Binford Field of Dreams":MAILTO:kaylee@binfordmetals.com
END:VEVENT
BEGIN:VEVENT
DTSTART;TZID=America/Los_Angeles:20260809T090000
DTEND;TZID=America/Los_Angeles:20260809T150000
DTSTAMP:20260423T234352
CREATED:20250225T051000Z
LAST-MODIFIED:20250819T022332Z
UID:82371-1786266000-1786287600@wwfirebirds.com
SUMMARY:23rd Annual All Pontiac Show & Shine
DESCRIPTION:22nd Annual All Pontiac Show & Shine
URL:https://wwfirebirds.com/event/all-pontiac-show/
LOCATION:Burger Master (XXX)\, 98 NE Gilman RD\, Issaquah\, Wa\, 98027
CATEGORIES:Car Show
ORGANIZER;CN="western washington firebirds":MAILTO:treasurer@wwfirebirds.com
END:VEVENT
BEGIN:VEVENT
DTSTART;TZID=America/Los_Angeles:20260814T170000
DTEND;TZID=America/Los_Angeles:20260814T210000
DTSTAMP:20260423T234352
CREATED:20260227T033325Z
LAST-MODIFIED:20260227T033325Z
UID:85013-1786726800-1786741200@wwfirebirds.com
SUMMARY:Binford Field of Dreams
DESCRIPTION:May 8.            July 24.     October 24 \nMay 15.          July 31 \nMay 29.          Aug 8 \nJune 12          Aug 14 \nJune 19          Aug 21 \nJune 26          Aug 28 \nJluly 10.          Sept 11 \nJuly 11          Sept 18 \nJuly 17          Sept 25
URL:https://wwfirebirds.com/event/binford-field-of-dreams-30/
LOCATION:Binford\, 26311 78th Ave S\, Kent\, Wa\, 98032
ORGANIZER;CN="Binford Field of Dreams":MAILTO:kaylee@binfordmetals.com
END:VEVENT
BEGIN:VEVENT
DTSTART;TZID=America/Los_Angeles:20260815T080000
DTEND;TZID=America/Los_Angeles:20260815T150000
DTSTAMP:20260423T234352
CREATED:20260316T060017Z
LAST-MODIFIED:20260316T060017Z
UID:85127-1786780800-1786806000@wwfirebirds.com
SUMMARY:38th Annual Nortwest Muscle Car Meet - Bothel
DESCRIPTION:Pop Keeney Stadium \nQuestoins – Wally Santella 206-243-3390
URL:https://wwfirebirds.com/event/38th-annual-nortwest-muscle-car-meet-bothel/
LOCATION:Pop Keeney Stadium\, 9809 NE 188th St\, Bothell\, WA\, 98011
END:VEVENT
BEGIN:VEVENT
DTSTART;TZID=America/Los_Angeles:20260815T090000
DTEND;TZID=America/Los_Angeles:20260815T110000
DTSTAMP:20260423T234352
CREATED:20260210T043032Z
LAST-MODIFIED:20260210T043032Z
UID:84902-1786784400-1786791600@wwfirebirds.com
SUMMARY:Tacoma Cars and Coffee - LeMay American Car Museum
DESCRIPTION:February 21 \nMarch 21 \nApril 18 \nMay 16 \nJune 20 \nJuly 18 \nAug 15 \nSept 19 \nOct 17 \nNov 21 \nDec 19
URL:https://wwfirebirds.com/event/tacoma-cars-and-coffee-lemay-american-car-museum-7/
LOCATION:Wa
END:VEVENT
BEGIN:VEVENT
DTSTART;TZID=America/Los_Angeles:20260815T090000
DTEND;TZID=America/Los_Angeles:20260815T120000
DTSTAMP:20260423T234352
CREATED:20260421T013503Z
LAST-MODIFIED:20260421T013503Z
UID:85240-1786784400-1786795200@wwfirebirds.com
SUMMARY:Federal Way Cars and Coffee
DESCRIPTION:Every Saturday Almost. \n201 Browns Point BLVD \nTacoma
URL:https://wwfirebirds.com/event/federal-way-cars-and-coffee-14/
LOCATION:Wa
END:VEVENT
BEGIN:VEVENT
DTSTART;TZID=America/Los_Angeles:20260815T090000
DTEND;TZID=America/Los_Angeles:20260815T150000
DTSTAMP:20260423T234352
CREATED:20260302T031858Z
LAST-MODIFIED:20260302T032010Z
UID:85039-1786784400-1786806000@wwfirebirds.com
SUMMARY:10th Annual Yesteryear Car Club Car Show
DESCRIPTION:All Makes & Models Welcome \nLucky Dog Casino \nyesteryearcarclub@gmail.com
URL:https://wwfirebirds.com/event/10th-annual-yesteryear-car-club-car-show/
LOCATION:Lucky Dog Casino\, 19330 North US Hwy 101\, Skokomish\, WA\, 98584
END:VEVENT
BEGIN:VEVENT
DTSTART;TZID=America/Los_Angeles:20260815T100000
DTEND;TZID=America/Los_Angeles:20260815T150000
DTSTAMP:20260423T234352
CREATED:20260403T203832Z
LAST-MODIFIED:20260403T203832Z
UID:85173-1786788000-1786806000@wwfirebirds.com
SUMMARY:Save the date. Run 4 Hope Community Car Show
DESCRIPTION:
URL:https://wwfirebirds.com/event/save-the-date-run-4-hope-community-car-show/
LOCATION:Wa
END:VEVENT
BEGIN:VEVENT
DTSTART;TZID=America/Los_Angeles:20260815T170000
DTEND;TZID=America/Los_Angeles:20260815T210000
DTSTAMP:20260423T234352
CREATED:20260411T020333Z
LAST-MODIFIED:20260421T011809Z
UID:85223-1786813200-1786827600@wwfirebirds.com
SUMMARY:2026 Cruise Buckley
DESCRIPTION:May 16 \nJune 20 \nJuly 18 \nAugust 15 \nSept 19
URL:https://wwfirebirds.com/event/2026-cruise-buckley-4/
LOCATION:Wa
END:VEVENT
BEGIN:VEVENT
DTSTART;TZID=America/Los_Angeles:20260816T100000
DTEND;TZID=America/Los_Angeles:20260816T140000
DTSTAMP:20260423T234352
CREATED:20260202T021451Z
LAST-MODIFIED:20260202T022303Z
UID:84797-1786874400-1786888800@wwfirebirds.com
SUMMARY:POCI All Pontiac Show/All American Show
DESCRIPTION:
URL:https://wwfirebirds.com/event/poci-all-pontiac-show-all-american-show/
LOCATION:Griots\, 3333 S 38th St\, Tacoma\, Wa
END:VEVENT
BEGIN:VEVENT
DTSTART;TZID=America/Los_Angeles:20260821T170000
DTEND;TZID=America/Los_Angeles:20260821T210000
DTSTAMP:20260423T234352
CREATED:20260227T033343Z
LAST-MODIFIED:20260227T033343Z
UID:85015-1787331600-1787346000@wwfirebirds.com
SUMMARY:Binford Field of Dreams
DESCRIPTION:May 8.            July 24.     October 24 \nMay 15.          July 31 \nMay 29.          Aug 8 \nJune 12          Aug 14 \nJune 19          Aug 21 \nJune 26          Aug 28 \nJluly 10.          Sept 11 \nJuly 11          Sept 18 \nJuly 17          Sept 25
URL:https://wwfirebirds.com/event/binford-field-of-dreams-31/
LOCATION:Binford\, 26311 78th Ave S\, Kent\, Wa\, 98032
ORGANIZER;CN="Binford Field of Dreams":MAILTO:kaylee@binfordmetals.com
END:VEVENT
BEGIN:VEVENT
DTSTART;TZID=America/Los_Angeles:20260823T110000
DTEND;TZID=America/Los_Angeles:20260823T150000
DTSTAMP:20260423T234352
CREATED:20260220T161952Z
LAST-MODIFIED:20260322T000946Z
UID:84953-1787482800-1787497200@wwfirebirds.com
SUMMARY:Big Annual Woodinville Wine and Hops Car Show
DESCRIPTION:15510 Woodinville Redmond Rd NE \nWoodinville\, Wa \n  \nregister at \nhttps://www.woodinvillecarclub.com
URL:https://wwfirebirds.com/event/big-annual-woodinville-wine-and-hops-car-show/
LOCATION:Wa
END:VEVENT
BEGIN:VEVENT
DTSTART;TZID=America/Los_Angeles:20260828T170000
DTEND;TZID=America/Los_Angeles:20260828T210000
DTSTAMP:20260423T234352
CREATED:20260227T033359Z
LAST-MODIFIED:20260227T033359Z
UID:85017-1787936400-1787950800@wwfirebirds.com
SUMMARY:Binford Field of Dreams
DESCRIPTION:May 8.            July 24.     October 24 \nMay 15.          July 31 \nMay 29.          Aug 8 \nJune 12          Aug 14 \nJune 19          Aug 21 \nJune 26          Aug 28 \nJluly 10.          Sept 11 \nJuly 11          Sept 18 \nJuly 17          Sept 25
URL:https://wwfirebirds.com/event/binford-field-of-dreams-32/
LOCATION:Binford\, 26311 78th Ave S\, Kent\, Wa\, 98032
ORGANIZER;CN="Binford Field of Dreams":MAILTO:kaylee@binfordmetals.com
END:VEVENT
END:VCALENDAR