BEGIN:VCALENDAR
VERSION:2.0
PRODID:-//Western Washington Firebirds - ECPv6.15.20//NONSGML v1.0//EN
CALSCALE:GREGORIAN
METHOD:PUBLISH
X-WR-CALNAME:Western Washington Firebirds
X-ORIGINAL-URL:https://wwfirebirds.com
X-WR-CALDESC:Events for Western Washington Firebirds
REFRESH-INTERVAL;VALUE=DURATION:PT1H
X-Robots-Tag:noindex
X-PUBLISHED-TTL:PT1H
BEGIN:VTIMEZONE
TZID:America/Los_Angeles
BEGIN:DAYLIGHT
TZOFFSETFROM:-0800
TZOFFSETTO:-0700
TZNAME:PDT
DTSTART:20240310T100000
END:DAYLIGHT
BEGIN:STANDARD
TZOFFSETFROM:-0700
TZOFFSETTO:-0800
TZNAME:PST
DTSTART:20241103T090000
END:STANDARD
BEGIN:DAYLIGHT
TZOFFSETFROM:-0800
TZOFFSETTO:-0700
TZNAME:PDT
DTSTART:20250309T100000
END:DAYLIGHT
BEGIN:STANDARD
TZOFFSETFROM:-0700
TZOFFSETTO:-0800
TZNAME:PST
DTSTART:20251102T090000
END:STANDARD
BEGIN:DAYLIGHT
TZOFFSETFROM:-0800
TZOFFSETTO:-0700
TZNAME:PDT
DTSTART:20260308T100000
END:DAYLIGHT
BEGIN:STANDARD
TZOFFSETFROM:-0700
TZOFFSETTO:-0800
TZNAME:PST
DTSTART:20261101T090000
END:STANDARD
END:VTIMEZONE
BEGIN:VEVENT
DTSTART;TZID=America/Los_Angeles:20250621T080000
DTEND;TZID=America/Los_Angeles:20250622T150000
DTSTAMP:20260423T202116
CREATED:20250506T015237Z
LAST-MODIFIED:20250506T015237Z
UID:83549-1750492800-1750604400@wwfirebirds.com
SUMMARY:Eatonville Rod Knockers Car Show
DESCRIPTION:Downtown Mashelle Ave\, Graham
URL:https://wwfirebirds.com/event/eatonville-rod-knockers-car-show/
LOCATION:Eatonville\, WA\, Marshell Ave\, Eatonville\, wa\, 98338
END:VEVENT
BEGIN:VEVENT
DTSTART;TZID=America/Los_Angeles:20250621T090000
DTEND;TZID=America/Los_Angeles:20250621T220000
DTSTAMP:20260423T202116
CREATED:20250507T235334Z
LAST-MODIFIED:20250507T235654Z
UID:83574-1750496400-1750543200@wwfirebirds.com
SUMMARY:35th Club Anniversay & BBQ @ Tappero's
DESCRIPTION:Potluck celebration and cruise hosted by Mike and Diane Tappero. More to come as we finalize plans.
URL:https://wwfirebirds.com/event/35th-club-anniversay-bbq-tapperos/
LOCATION:Tappero’s\, 21209 SE Green Valley Rd\, auburn\, wa
ORGANIZER;CN="Tappero's":MAILTO:didi66@comcast.net
END:VEVENT
BEGIN:VEVENT
DTSTART;TZID=America/Los_Angeles:20250621T180000
DTEND;TZID=America/Los_Angeles:20250621T220000
DTSTAMP:20260423T202116
CREATED:20250501T173845Z
LAST-MODIFIED:20250501T173845Z
UID:83408-1750528800-1750543200@wwfirebirds.com
SUMMARY:Downtown Buckley 3rd Saturday of the Month
DESCRIPTION:
URL:https://wwfirebirds.com/event/downtown-buckley-3rd-saturday-of-the-month-5/
LOCATION:Wa
END:VEVENT
END:VCALENDAR