BEGIN:VCALENDAR
VERSION:2.0
PRODID:-//Western Washington Firebirds - ECPv6.15.20//NONSGML v1.0//EN
CALSCALE:GREGORIAN
METHOD:PUBLISH
X-WR-CALNAME:Western Washington Firebirds
X-ORIGINAL-URL:https://wwfirebirds.com
X-WR-CALDESC:Events for Western Washington Firebirds
REFRESH-INTERVAL;VALUE=DURATION:PT1H
X-Robots-Tag:noindex
X-PUBLISHED-TTL:PT1H
BEGIN:VTIMEZONE
TZID:America/Los_Angeles
BEGIN:DAYLIGHT
TZOFFSETFROM:-0800
TZOFFSETTO:-0700
TZNAME:PDT
DTSTART:20240310T100000
END:DAYLIGHT
BEGIN:STANDARD
TZOFFSETFROM:-0700
TZOFFSETTO:-0800
TZNAME:PST
DTSTART:20241103T090000
END:STANDARD
BEGIN:DAYLIGHT
TZOFFSETFROM:-0800
TZOFFSETTO:-0700
TZNAME:PDT
DTSTART:20250309T100000
END:DAYLIGHT
BEGIN:STANDARD
TZOFFSETFROM:-0700
TZOFFSETTO:-0800
TZNAME:PST
DTSTART:20251102T090000
END:STANDARD
BEGIN:DAYLIGHT
TZOFFSETFROM:-0800
TZOFFSETTO:-0700
TZNAME:PDT
DTSTART:20260308T100000
END:DAYLIGHT
BEGIN:STANDARD
TZOFFSETFROM:-0700
TZOFFSETTO:-0800
TZNAME:PST
DTSTART:20261101T090000
END:STANDARD
END:VTIMEZONE
BEGIN:VEVENT
DTSTART;TZID=America/Los_Angeles:20250606T080000
DTEND;TZID=America/Los_Angeles:20250606T170000
DTSTAMP:20260423T181800
CREATED:20250519T003130Z
LAST-MODIFIED:20250519T003130Z
UID:83654-1749196800-1749229200@wwfirebirds.com
SUMMARY:Sedro Woolley Chamber of Commerce Car show
DESCRIPTION:Special Guest Ryan Evans from Counting Cars
URL:https://wwfirebirds.com/event/sedro-woolley-chamber-of-commerce-car-show/
LOCATION:Sedro Woley\, 810 Metcalf St\, Sedro Woolley\, WA
END:VEVENT
BEGIN:VEVENT
DTSTART;TZID=America/Los_Angeles:20250606T180000
DTEND;TZID=America/Los_Angeles:20250606T220000
DTSTAMP:20260423T181800
CREATED:20250502T024102Z
LAST-MODIFIED:20250502T024102Z
UID:83464-1749232800-1749247200@wwfirebirds.com
SUMMARY:Cruise Enumclaw
DESCRIPTION:
URL:https://wwfirebirds.com/event/cruise-enumclaw-2/
LOCATION:Wa
END:VEVENT
END:VCALENDAR