BEGIN:VCALENDAR
VERSION:2.0
PRODID:-//Western Washington Firebirds - ECPv6.15.20//NONSGML v1.0//EN
CALSCALE:GREGORIAN
METHOD:PUBLISH
X-WR-CALNAME:Western Washington Firebirds
X-ORIGINAL-URL:https://wwfirebirds.com
X-WR-CALDESC:Events for Western Washington Firebirds
REFRESH-INTERVAL;VALUE=DURATION:PT1H
X-Robots-Tag:noindex
X-PUBLISHED-TTL:PT1H
BEGIN:VTIMEZONE
TZID:America/Los_Angeles
BEGIN:DAYLIGHT
TZOFFSETFROM:-0800
TZOFFSETTO:-0700
TZNAME:PDT
DTSTART:20240310T100000
END:DAYLIGHT
BEGIN:STANDARD
TZOFFSETFROM:-0700
TZOFFSETTO:-0800
TZNAME:PST
DTSTART:20241103T090000
END:STANDARD
BEGIN:DAYLIGHT
TZOFFSETFROM:-0800
TZOFFSETTO:-0700
TZNAME:PDT
DTSTART:20250309T100000
END:DAYLIGHT
BEGIN:STANDARD
TZOFFSETFROM:-0700
TZOFFSETTO:-0800
TZNAME:PST
DTSTART:20251102T090000
END:STANDARD
BEGIN:DAYLIGHT
TZOFFSETFROM:-0800
TZOFFSETTO:-0700
TZNAME:PDT
DTSTART:20260308T100000
END:DAYLIGHT
BEGIN:STANDARD
TZOFFSETFROM:-0700
TZOFFSETTO:-0800
TZNAME:PST
DTSTART:20261101T090000
END:STANDARD
END:VTIMEZONE
BEGIN:VEVENT
DTSTART;VALUE=DATE:20250523
DTEND;VALUE=DATE:20250527
DTSTAMP:20260423T210139
CREATED:20250312T204819Z
LAST-MODIFIED:20250504T210357Z
UID:82716-1747958400-1748303999@wwfirebirds.com
SUMMARY:NW Legends Tigers on the Columbia -  Wenatchee
DESCRIPTION:Go to northwestlegends.com for more information regarding registration
URL:https://wwfirebirds.com/event/nw-legends-gto-wenatchee/
LOCATION:Wenatchee\, Rocky Reach Dam Park\, 6151 US 97 al
ORGANIZER;CN="Northwest Legends":MAILTO:wally@northwestlegends.com
END:VEVENT
BEGIN:VEVENT
DTSTART;VALUE=DATE:20250525
DTEND;VALUE=DATE:20250526
DTSTAMP:20260423T210139
CREATED:20250312T210100Z
LAST-MODIFIED:20250312T210100Z
UID:82731-1748131200-1748217599@wwfirebirds.com
SUMMARY:Screamin Cars and Coffee
DESCRIPTION:
URL:https://wwfirebirds.com/event/screamin-cars-and-coffee-9/
LOCATION:Screamin Cars and Coffee\, 10411 Canyon Rd E\, Puyallup\, WA\, 98373\, United States
CATEGORIES:Screamin Cars and Coffee
END:VEVENT
BEGIN:VEVENT
DTSTART;TZID=America/Los_Angeles:20250525T130000
DTEND;TZID=America/Los_Angeles:20250525T170000
DTSTAMP:20260423T210139
CREATED:20250501T170359Z
LAST-MODIFIED:20250515T001632Z
UID:83377-1748178000-1748192400@wwfirebirds.com
SUMMARY:Wilkeson Carbonado Car Show and  Cruise
DESCRIPTION:Dates\nMay 25\nJune 22\nJuly 27\nAug 24\nSept 28\n1PM to 5PM \nThe car show is being organized by Andy Bishop. It does start at 1pm\, until 5pm. The vehicles will be able to be parked anywhere in Town\, including next to the old hotel and brothel in the yard\, and at the fire station and all the places with Yellow X’s. Andy was working to reserve the Eagles Hall\, and that would extend parking behind the hall as well! There will be signs and if there is a parking spot open\, it’s fair game!
URL:https://wwfirebirds.com/event/wilkeson-carbonado-car-show-and-cruise/
LOCATION:City of Wilkerson\, Wilkerson\, WA
END:VEVENT
BEGIN:VEVENT
DTSTART;TZID=America/Los_Angeles:20250525T130000
DTEND;TZID=America/Los_Angeles:20250525T170000
DTSTAMP:20260423T210139
CREATED:20250507T234921Z
LAST-MODIFIED:20250507T234921Z
UID:83571-1748178000-1748192400@wwfirebirds.com
SUMMARY:Cruzin2Colby Pre Funk Party
DESCRIPTION:May 25th Cruzin’ 2 Colby Pre-Funk\nparty 1pm\nSteve and Stephanie Phillips have invited the club\nto a pre-funk party before the Cruzin’ 2 Colby\nShow in Evertt WA. Their address is 12312 127th\nAve NE Lake Stevens WA 98258. This is a pot\nluck so bring your favorite sides and deserts.\nBurgers and dogs will be the main dish. They are\nalso inviting other local clubs to the party so this\nwill be a great opportunity to meet lot’s of other\nclubs and awesome car culture folks! Yes\, this is\nthe same weekend as Tigers On the Columbia\,\nbut this is for those of us who couldn’t make it to\nWenatchee.
URL:https://wwfirebirds.com/event/cruzin2colby-pre-funk-party/
LOCATION:Steve & Stephanie Phillips\, 12312 127th Ave NE\, Lake Stevens\, wa\, 98258
END:VEVENT
BEGIN:VEVENT
DTSTART;TZID=America/Los_Angeles:20250525T170000
DTEND;TZID=America/Los_Angeles:20250526T210000
DTSTAMP:20260423T210139
CREATED:20250312T210336Z
LAST-MODIFIED:20250504T204607Z
UID:82736-1748192400-1748293200@wwfirebirds.com
SUMMARY:Cruzin2Colby
DESCRIPTION:
URL:https://wwfirebirds.com/event/cruizin-colby/
LOCATION:Colby\, Everett\, 2902 Colby Ave\, Everett\, WA\, 98201\, United States
CATEGORIES:Cruising
END:VEVENT
END:VCALENDAR